BEGIN:VCALENDAR
VERSION:2.0
PRODID:-//Tukios.com/
BEGIN:VEVENT
UID:2d59017a-71ea-4c1a-9c53-ad33fa02f631@www.beanfuneralhomes.com
DTSTAMP:20260423T011328Z
DTSTART:20260427T130000Z
DTEND:20260427T140000Z
SUMMARY:Visitation
DESCRIPTION:
URL:https://www.beanfuneralhomes.com/obituaries/janine-gerber
LOCATION:Bean Funeral Home 129 E Lancaster Ave  Shillington PA 19607
GEO:40.3050094;-75.9648097
END:VEVENT
END:VCALENDAR