BEGIN:VCALENDAR
VERSION:2.0
PRODID:-//Tukios.com/
BEGIN:VEVENT
UID:92a77dd1-643d-4880-bb55-bbe9e157ffd1@www.beanfuneralhomes.com
DTSTAMP:20260423T011822Z
DTSTART:20260427T140000Z
DTEND:20260427T150000Z
SUMMARY:Funeral Service
DESCRIPTION:
URL:https://www.beanfuneralhomes.com/obituaries/janine-gerber
LOCATION:Bean Funeral Home 129 E Lancaster Ave  Shillington PA 19607
GEO:40.3050094;-75.9648097
END:VEVENT
END:VCALENDAR