BEGIN:VCALENDAR
VERSION:2.0
PRODID:-//Tukios.com/
BEGIN:VEVENT
UID:08978864-4286-49cf-ae8f-d7a6116023a6@www.beanfuneralhomes.com
DTSTAMP:20260422T025713Z
DTSTART:20260423T200000Z
DTEND:20260423T230000Z
SUMMARY:Celebration of Life
DESCRIPTION:
URL:https://www.beanfuneralhomes.com/obituaries/leonard-gobright
LOCATION: 3825 Penn Ave  Sinking Spring PA 19608
GEO:40.3258808;-76.0194448
END:VEVENT
END:VCALENDAR