BEGIN:VCALENDAR
VERSION:2.0
PRODID:-//Tukios.com/
BEGIN:VEVENT
UID:67920dc0-bd26-48ae-a8be-da0337683ef2@www.beanfuneralhomes.com
DTSTAMP:20260421T233217Z
DTSTART:20260517T180000Z
DTEND:20260517T190000Z
SUMMARY:Celebration of Life
DESCRIPTION:
URL:https://www.beanfuneralhomes.com/obituaries/mary-crawford
LOCATION:New Holland American Legion 35 South Hoover Avenue  New Holland 
	PA 17557
GEO:40.0974784;-76.0995426
END:VEVENT
END:VCALENDAR