BEGIN:VCALENDAR
VERSION:2.0
PRODID:-//Tukios.com/
BEGIN:VEVENT
UID:88d27fc0-f451-4bee-a609-54ccd9afe32e@www.beanfuneralhomes.com
DTSTAMP:20260424T094156Z
DTSTART:20260424T150000Z
DTEND:20260424T160000Z
SUMMARY:Funeral Service
DESCRIPTION:
URL:https://www.beanfuneralhomes.com/obituaries/ronald-douglas
LOCATION: 3825 Penn Ave  Sinking Spring PA 19608
GEO:40.3258808;-76.0194448
END:VEVENT
END:VCALENDAR