BEGIN:VCALENDAR
VERSION:2.0
PRODID:-//Tukios.com/
BEGIN:VEVENT
UID:671c137f-8724-4e00-ba77-99beb7e06b3d@www.beanfuneralhomes.com
DTSTAMP:20260420T184152Z
DTSTART:20260424T150000Z
DTEND:20260424T160000Z
SUMMARY:Celebration of Life
DESCRIPTION:
URL:https://www.beanfuneralhomes.com/obituaries/sara-warren-md
LOCATION:Bean Funeral Home 129 E Lancaster Ave  Shillington PA 19607
GEO:40.3050094;-75.9648097
END:VEVENT
END:VCALENDAR