BEGIN:VCALENDAR
VERSION:2.0
PRODID:-//Tukios.com/
BEGIN:VEVENT
UID:27668a2e-4048-4330-87a5-ea4ad0685ab8@www.beanfuneralhomes.com
DTSTAMP:20260420T184623Z
DTSTART:20260424T140000Z
DTEND:20260424T150000Z
SUMMARY:Visitation
DESCRIPTION:
URL:https://www.beanfuneralhomes.com/obituaries/sara-warren-md
LOCATION:Bean Funeral Home 129 E Lancaster Ave  Shillington PA 19607
GEO:40.3050094;-75.9648097
END:VEVENT
END:VCALENDAR